BEGIN:VCALENDAR
VERSION:2.0
PRODID:-//My Calendar//http://www.joedolson.com//v3.2.0//EN
METHOD:PUBLISH
CALSCALE:GREGORIAN
X-WR-CALNAME:CITOP Aragón
X-PUBLISHED-TTL:PT24H
REFRESH-INTERVAL;VALUE=DURATION:PT24H
X-WR-CALDESC:Events from CITOP Aragón
BEGIN:VEVENT
UID:318-164
LOCATION:
SUMMARY:Curso BIM: Autocad Civil 3D Nivel iniciación e intermedio
DTSTAMP:20221017T100000
ORGANIZER;CN=sede:MAILTO:aragon@citop.es
DTSTART;TZID=Europe/Madrid:20221017T100000
DTEND;TZID=Europe/Madrid:20221017T000000
URL;VALUE=URI:http://citoparagon.es/1/my-calendar/
DESCRIPTION: 
CATEGORIES:General
END:VEVENT
BEGIN:VEVENT
UID:317-163
LOCATION:
SUMMARY:Curso de Formación Continua: Firmes con Cemento – II edición - Experiencias en el uso de firmes estabilizados con cemento
DTSTAMP:20220331T183000
ORGANIZER;CN=sede:MAILTO:aragon@citop.es
DTSTART;TZID=Europe/Madrid:20220331T183000
DTEND;TZID=Europe/Madrid:20220331T193000
URL;VALUE=URI:http://citoparagon.es/1/my-calendar/
DESCRIPTION: 
CATEGORIES:General
END:VEVENT
BEGIN:VEVENT
UID:316-162
LOCATION:
SUMMARY:Curso de Formación Continua: Firmes con Cemento – II edición -Pavimentos de hormigón: diseño y cálculo
DTSTAMP:20220310T183000
ORGANIZER;CN=sede:MAILTO:aragon@citop.es
DTSTART;TZID=Europe/Madrid:20220310T183000
DTEND;TZID=Europe/Madrid:20220310T193000
URL;VALUE=URI:http://citoparagon.es/1/my-calendar/
DESCRIPTION: 
CATEGORIES:General
END:VEVENT
BEGIN:VEVENT
UID:315-161
LOCATION:
SUMMARY:Curso de Formación Continua: Firmes con Cemento – II edición -Pavimentos de hormigón: diseño y cálculo
DTSTAMP:20220120T183000
ORGANIZER;CN=sede:MAILTO:aragon@citop.es
DTSTART;TZID=Europe/Madrid:20220120T183000
DTEND;TZID=Europe/Madrid:20220120T193000
URL;VALUE=URI:http://citoparagon.es/1/my-calendar/
DESCRIPTION: 
CATEGORIES:General
END:VEVENT
BEGIN:VEVENT
UID:314-160
LOCATION:
SUMMARY:Curso de Formación Continua: Firmes con Cemento – II edición - Reciclado de firmes
DTSTAMP:20220217T183000
ORGANIZER;CN=sede:MAILTO:aragon@citop.es
DTSTART;TZID=Europe/Madrid:20220217T183000
DTEND;TZID=Europe/Madrid:20220217T193000
URL;VALUE=URI:http://citoparagon.es/1/my-calendar/
DESCRIPTION: 
CATEGORIES:General
END:VEVENT
BEGIN:VEVENT
UID:313-159
LOCATION:
SUMMARY:Curso de Formación Continua: Firmes con Cemento – II edición - Capas de suelo estabilizadas con cemento
DTSTAMP:20220210T183000
ORGANIZER;CN=sede:MAILTO:aragon@citop.es
DTSTART;TZID=Europe/Madrid:20220210T183000
DTEND;TZID=Europe/Madrid:20220210T193000
URL;VALUE=URI:http://citoparagon.es/1/my-calendar/
DESCRIPTION: 
CATEGORIES:General
END:VEVENT
BEGIN:VEVENT
UID:312-158
LOCATION:
SUMMARY:Seminarios de Introducción al Nuevo Código Estructural – Gestión durante la vida de servicio de estructuras de acero.
DTSTAMP:20211027T183000
ORGANIZER;CN=sede:MAILTO:aragon@citop.es
DTSTART;TZID=Europe/Madrid:20211027T183000
DTEND;TZID=Europe/Madrid:20211027T193000
URL;VALUE=URI:https://www.citoparagon.es/2021/10/05/seminarios-de-introduccion-al-nuevo-codigo-estructural-mes-de-octubre/
DESCRIPTION: https://www.citoparagon.es/2021/10/05/seminarios-de-introduccion-al-nuevo-codigo-estructural-mes-de-octubre/
CATEGORIES:General
END:VEVENT
BEGIN:VEVENT
UID:311-157
LOCATION:
SUMMARY:Seminarios de Introducción al Nuevo Código Estructural – Gestión de calidad de estructuras de acero.
DTSTAMP:20211026T183000
ORGANIZER;CN=sede:MAILTO:aragon@citop.es
DTSTART;TZID=Europe/Madrid:20211026T183000
DTEND;TZID=Europe/Madrid:20211026T193000
URL;VALUE=URI:https://www.citoparagon.es/2021/10/05/seminarios-de-introduccion-al-nuevo-codigo-estructural-mes-de-octubre/
DESCRIPTION: https://www.citoparagon.es/2021/10/05/seminarios-de-introduccion-al-nuevo-codigo-estructural-mes-de-octubre/
CATEGORIES:General
END:VEVENT
BEGIN:VEVENT
UID:310-156
LOCATION:
SUMMARY:Seminarios de Introducción al Nuevo Código Estructural – Ejecución de estructuras de acero
DTSTAMP:20211025T183000
ORGANIZER;CN=sede:MAILTO:aragon@citop.es
DTSTART;TZID=Europe/Madrid:20211025T183000
DTEND;TZID=Europe/Madrid:20211025T193000
URL;VALUE=URI:https://www.citoparagon.es/2021/10/05/seminarios-de-introduccion-al-nuevo-codigo-estructural-mes-de-octubre/
DESCRIPTION: https://www.citoparagon.es/2021/10/05/seminarios-de-introduccion-al-nuevo-codigo-estructural-mes-de-octubre/
CATEGORIES:General
END:VEVENT
BEGIN:VEVENT
UID:309-155
LOCATION:
SUMMARY:Seminarios de Introducción al Nuevo Código Estructural – Ejecución de estructuras de acero
DTSTAMP:20211021T183000
ORGANIZER;CN=sede:MAILTO:aragon@citop.es
DTSTART;TZID=Europe/Madrid:20211021T183000
DTEND;TZID=Europe/Madrid:20211021T193000
URL;VALUE=URI:https://www.citoparagon.es/2021/10/05/seminarios-de-introduccion-al-nuevo-codigo-estructural-mes-de-octubre/
DESCRIPTION: https://www.citoparagon.es/2021/10/05/seminarios-de-introduccion-al-nuevo-codigo-estructural-mes-de-octubre/
CATEGORIES:General
END:VEVENT
BEGIN:VEVENT
UID:308-154
LOCATION:
SUMMARY:Seminarios de Introducción al Nuevo Código Estructural – Durabilidad de estructuras de acero.
DTSTAMP:20211018T183000
ORGANIZER;CN=sede:MAILTO:aragon@citop.es
DTSTART;TZID=Europe/Madrid:20211018T183000
DTEND;TZID=Europe/Madrid:20211018T193000
URL;VALUE=URI:https://www.citoparagon.es/2021/10/05/seminarios-de-introduccion-al-nuevo-codigo-estructural-mes-de-octubre/
DESCRIPTION: https://www.citoparagon.es/2021/10/05/seminarios-de-introduccion-al-nuevo-codigo-estructural-mes-de-octubre/
CATEGORIES:General
END:VEVENT
BEGIN:VEVENT
UID:307-153
LOCATION:
SUMMARY:Seminarios de Introducción al Nuevo Código Estructural – Aceros estructurales - clases y propiedades
DTSTAMP:20211014T183000
ORGANIZER;CN=sede:MAILTO:aragon@citop.es
DTSTART;TZID=Europe/Madrid:20211014T183000
DTEND;TZID=Europe/Madrid:20211014T193000
URL;VALUE=URI:https://www.citoparagon.es/2021/10/05/seminarios-de-introduccion-al-nuevo-codigo-estructural-mes-de-octubre/
DESCRIPTION: https://www.citoparagon.es/2021/10/05/seminarios-de-introduccion-al-nuevo-codigo-estructural-mes-de-octubre/
CATEGORIES:General
END:VEVENT
BEGIN:VEVENT
UID:306-152
LOCATION:
SUMMARY:Seminarios de Introducción al Nuevo Código Estructural – Durabilidad - Clases de exposición en acero
DTSTAMP:20211013T183000
ORGANIZER;CN=sede:MAILTO:aragon@citop.es
DTSTART;TZID=Europe/Madrid:20211013T183000
DTEND;TZID=Europe/Madrid:20211013T193000
URL;VALUE=URI:https://www.citoparagon.es/2021/10/05/seminarios-de-introduccion-al-nuevo-codigo-estructural-mes-de-octubre/
DESCRIPTION: https://www.citoparagon.es/2021/10/05/seminarios-de-introduccion-al-nuevo-codigo-estructural-mes-de-octubre/
CATEGORIES:General
END:VEVENT
BEGIN:VEVENT
UID:305-151
LOCATION:
SUMMARY:Introducción a los Eurocódigos: UNE-EN 1992 1-1 Proyecto de estructuras de hormigón. Reglas generales y reglas para edificación (I)
DTSTAMP:20210928T183000
ORGANIZER;CN=citoparagon:MAILTO:citopic.aragon@gmail.com
DTSTART;TZID=Europe/Madrid:20210928T183000
DTEND;TZID=Europe/Madrid:20210928T193000
URL;VALUE=URI:https://us02web.zoom.us/meeting/register/tZYlc-uqqjoqHdXCSamYr-y8DZtOqX1N20ad
DESCRIPTION: https://us02web.zoom.us/meeting/register/tZYlc-uqqjoqHdXCSamYr-y8DZtOqX1N20ad
CATEGORIES:General
END:VEVENT
BEGIN:VEVENT
UID:304-150
LOCATION:
SUMMARY:Reunión informativa Oposiciones
DTSTAMP:20210929T190000
ORGANIZER;CN=sede:MAILTO:aragon@citop.es
DTSTART;TZID=Europe/Madrid:20210929T190000
DTEND;TZID=Europe/Madrid:20210929T220000
URL;VALUE=URI:http://citoparagon.es/1/my-calendar/
DESCRIPTION: 
CATEGORIES:General
END:VEVENT
BEGIN:VEVENT
UID:303-149
LOCATION:
SUMMARY:Introducción a los Eurocódigos: UNE-EN 1992 1-1 Proyecto de estructuras de hormigón. Reglas generales y reglas para edificación (II)
DTSTAMP:20210930T183000
ORGANIZER;CN=sede:MAILTO:aragon@citop.es
DTSTART;TZID=Europe/Madrid:20210930T183000
DTEND;TZID=Europe/Madrid:20210930T193000
URL;VALUE=URI:https://us02web.zoom.us/meeting/register/tZAtdeGprTktH9CLkbYjulmyuMsPPGJlVzKx
DESCRIPTION: https://us02web.zoom.us/meeting/register/tZAtdeGprTktH9CLkbYjulmyuMsPPGJlVzKx
CATEGORIES:General
END:VEVENT
BEGIN:VEVENT
UID:301-147
LOCATION:
SUMMARY:Seminarios de Introducción al Nuevo Código Estructural – Demolición de estructuras
DTSTAMP:20210923T183000
ORGANIZER;CN=sede:MAILTO:aragon@citop.es
DTSTART;TZID=Europe/Madrid:20210923T183000
DTEND;TZID=Europe/Madrid:20210923T193000
URL;VALUE=URI:https://www.citoparagon.es/2021/09/10/seminarios-de-introduccion-al-nuevo-codigo-estructural-segunda-quincena-de-septiembre/
DESCRIPTION: https://www.citoparagon.es/2021/09/10/seminarios-de-introduccion-al-nuevo-codigo-estructural-segunda-quincena-de-septiembre/
CATEGORIES:General
END:VEVENT
BEGIN:VEVENT
UID:300-146
LOCATION:
SUMMARY:Seminarios de Introducción al Nuevo Código Estructural –Durabilidad: sistemas de protección de armaduras
DTSTAMP:20210922T183000
ORGANIZER;CN=sede:MAILTO:aragon@citop.es
DTSTART;TZID=Europe/Madrid:20210922T183000
DTEND;TZID=Europe/Madrid:20210922T193000
URL;VALUE=URI:https://www.citoparagon.es/2021/09/10/seminarios-de-introduccion-al-nuevo-codigo-estructural-segunda-quincena-de-septiembre/
DESCRIPTION: https://www.citoparagon.es/2021/09/10/seminarios-de-introduccion-al-nuevo-codigo-estructural-segunda-quincena-de-septiembre/
CATEGORIES:General
END:VEVENT
BEGIN:VEVENT
UID:299-145
LOCATION:
SUMMARY:Seminarios de Introducción al Nuevo Código Estructural – Inspección, reparación y refuerzo de estructuras
DTSTAMP:20210920T183000
ORGANIZER;CN=sede:MAILTO:aragon@citop.es
DTSTART;TZID=Europe/Madrid:20210920T183000
DTEND;TZID=Europe/Madrid:20210920T193000
URL;VALUE=URI:https://www.citoparagon.es/2021/09/10/seminarios-de-introduccion-al-nuevo-codigo-estructural-segunda-quincena-de-septiembre/
DESCRIPTION: https://www.citoparagon.es/2021/09/10/seminarios-de-introduccion-al-nuevo-codigo-estructural-segunda-quincena-de-septiembre/
CATEGORIES:General
END:VEVENT
BEGIN:VEVENT
UID:298-144
LOCATION:
SUMMARY:Seminarios de Introducción al Nuevo Código Estructural – Control de calidad de estructuras de hormigón.
DTSTAMP:20210916T183000
ORGANIZER;CN=sede:MAILTO:aragon@citop.es
DTSTART;TZID=Europe/Madrid:20210916T183000
DTEND;TZID=Europe/Madrid:20210916T193000
URL;VALUE=URI:https://www.citoparagon.es/2021/09/10/seminarios-de-introduccion-al-nuevo-codigo-estructural-segunda-quincena-de-septiembre/
DESCRIPTION: https://www.citoparagon.es/2021/09/10/seminarios-de-introduccion-al-nuevo-codigo-estructural-segunda-quincena-de-septiembre/
CATEGORIES:General
END:VEVENT
BEGIN:VEVENT
UID:297-143
LOCATION:
SUMMARY:Seminario online: La reparación del Puente de Sástago
DTSTAMP:20210921T190000
ORGANIZER;CN=sede:MAILTO:aragon@citop.es
DTSTART;TZID=Europe/Madrid:20210921T190000
DTEND;TZID=Europe/Madrid:20210921T200000
URL;VALUE=URI:http://citoparagon.es/1/my-calendar/
DESCRIPTION: 
CATEGORIES:General
END:VEVENT
BEGIN:VEVENT
UID:296-142
LOCATION:
SUMMARY:Seminarios de Introducción al Nuevo Código Estructural - Control de ejecución en estructuras de hormigón
DTSTAMP:20210913T183000
ORGANIZER;CN=sede:MAILTO:aragon@citop.es
DTSTART;TZID=Europe/Madrid:20210913T183000
DTEND;TZID=Europe/Madrid:20210913T193000
URL;VALUE=URI:https://www.citoparagon.es/2021/08/19/seminarios-de-introduccion-al-nuevo-codigo-estructural-primera-quincena-de-septiembre/
DESCRIPTION: https://www.citoparagon.es/2021/08/19/seminarios-de-introduccion-al-nuevo-codigo-estructural-primera-quincena-de-septiembre/
CATEGORIES:General
END:VEVENT
BEGIN:VEVENT
UID:295-141
LOCATION:
SUMMARY:Seminarios de Introducción al Nuevo Código Estructural – Tipificación de hormigones
DTSTAMP:20210909T183000
ORGANIZER;CN=sede:MAILTO:aragon@citop.es
DTSTART;TZID=Europe/Madrid:20210909T183000
DTEND;TZID=Europe/Madrid:20210909T193000
URL;VALUE=URI:http://citoparagon.es/1/my-calendar/
DESCRIPTION: 
CATEGORIES:General
END:VEVENT
BEGIN:VEVENT
UID:294-140
LOCATION:
SUMMARY:Seminarios de Introducción al Nuevo Código Estructural – Durabilidad: Clases de exposición en hormigón
DTSTAMP:20210907T183000
ORGANIZER;CN=sede:MAILTO:aragon@citop.es
DTSTART;TZID=Europe/Madrid:20210907T183000
DTEND;TZID=Europe/Madrid:20210907T193000
URL;VALUE=URI:http://citoparagon.es/1/my-calendar/
DESCRIPTION: 
CATEGORIES:General
END:VEVENT
BEGIN:VEVENT
UID:293-139
LOCATION:
SUMMARY:Seminarios de Introducción al Nuevo Código Estructural -Antecedentes y ámbito de aplicación
DTSTAMP:20210906T183000
ORGANIZER;CN=sede:MAILTO:aragon@citop.es
DTSTART;TZID=Europe/Madrid:20210906T183000
DTEND;TZID=Europe/Madrid:20210906T193000
URL;VALUE=URI:http://citoparagon.es/1/my-calendar/
DESCRIPTION: 
CATEGORIES:General
END:VEVENT
BEGIN:VEVENT
UID:292-138
LOCATION:
SUMMARY:Seminarios de Introducción al Nuevo Código Estructural
DTSTAMP:20210831T000000
ORGANIZER;CN=sede:MAILTO:aragon@citop.es
DTSTART;TZID=Europe/Madrid:20210831T000000
DTEND;TZID=Europe/Madrid:20210901T000000
URL;VALUE=URI:http://citoparagon.es/1/my-calendar/
DESCRIPTION: 
CATEGORIES:General
X-FUNAMBOL-ALLDAY: 1
X-MICROSOFT-CDO-ALLDAYEVENT: TRUE

END:VEVENT
BEGIN:VEVENT
UID:291-137
LOCATION:
SUMMARY:Seminario Online: Mejoras del terreno con inyección de resinas expansivas
DTSTAMP:20210601T190000
ORGANIZER;CN=sede:MAILTO:aragon@citop.es
DTSTART;TZID=Europe/Madrid:20210601T190000
DTEND;TZID=Europe/Madrid:20210601T200000
URL;VALUE=URI:https://www.citoparagon.es/2021/05/10/seminario-online-mejoras-del-terreno-con-inyeccion-de-resinas-expansivas/
DESCRIPTION: https://www.citoparagon.es/2021/05/10/seminario-online-mejoras-del-terreno-con-inyeccion-de-resinas-expansivas/
CATEGORIES:General
END:VEVENT
BEGIN:VEVENT
UID:290-136
LOCATION:
SUMMARY:Ingeniero Civil y Trabajo Seguro
DTSTAMP:20210428T180000
ORGANIZER;CN=sede:MAILTO:aragon@citop.es
DTSTART;TZID=Europe/Madrid:20210428T180000
DTEND;TZID=Europe/Madrid:20210428T190000
URL;VALUE=URI:http://citoparagon.es/1/my-calendar/
DESCRIPTION: 
CATEGORIES:General
END:VEVENT
BEGIN:VEVENT
UID:289-135
LOCATION:
SUMMARY:Seminario online: modelos hidráulicos
DTSTAMP:20210525T190000
ORGANIZER;CN=citoparagon:MAILTO:citopic.aragon@gmail.com
DTSTART;TZID=Europe/Madrid:20210525T190000
DTEND;TZID=Europe/Madrid:20210525T200000
URL;VALUE=URI:http://citoparagon.es/1/my-calendar/
DESCRIPTION: 
CATEGORIES:General
END:VEVENT
BEGIN:VEVENT
UID:288-134
LOCATION:
SUMMARY:Hormigones para obra civil y edificación: Hormigones proyectados
DTSTAMP:20210415T183000
ORGANIZER;CN=citoparagon:MAILTO:citopic.aragon@gmail.com
DTSTART;TZID=Europe/Madrid:20210415T183000
DTEND;TZID=Europe/Madrid:20210415T200000
URL;VALUE=URI:https://www.citoparagon.es/2020/08/19/curso-de-formacion-continua-hormigones-para-obra-civil-y-edificacion/
DESCRIPTION: https://www.citoparagon.es/2020/08/19/curso-de-formacion-continua-hormigones-para-obra-civil-y-edificacion/
CATEGORIES:General
END:VEVENT
END:VCALENDAR